{"text_format":"3","workbook":"xlsx","n_sheets":13,"sheets":["Januar","Februar","März","April","Mai","Juni","Juli","August","September","Oktober","November","Dezember","Gesamt"],"not_rendered":{"comments":1},"read":"whole","date_system":"1900"}

{"sheet":"Januar","index":0,"n_rows":45,"n_cols":22,"rows_kept":45,"merged":[[0,3,0,6],[0,8,0,11],[3,3,3,6],[3,8,3,11],[3,13,3,16],[3,18,3,21]]}
["Fahrkostennachweis  2025",null,null,"Name",{"$nulls":4},"Standort"]
["Monat","(monatlich einreichen an verwaltung@)"]
[]
["Tag","Fahrtziel / Grund",null,"UD",{"$nulls":4},"Querschnitt",{"$nulls":4},"Vereinsbetreuung",{"$nulls":4},"       Gesamt"]
[{"$nulls":3},"Euro","km","km","km",null,"Euro","km","km","km",null,"Euro","km","km","km",null,"Euro","km","km","km"]
[{"$nulls":3},"HVV   ","Fahrrad","Motor. Zweirad \n> 25km/h","PKW ",null,"HVV   ","Fahrrad","Motor. Zweirad \n> 25km/h","PKW ",null,"HVV ","Fahrrad","Motor. Zweirad \n> 25km/h","PKW",null,"HVV ","Fahrrad","Motor. Zweirad \n> 25km/h","PKW"]
[]
[{"$nulls":18},{"$f":"D8+I8+N8","v":0},{"$f":"E8+J8+O8","v":0},{"$f":"F8+K8+P8","v":0},{"$f":"G8+L8+Q8","v":0}]
[{"$nulls":18},{"$f":"D9+I9+N9","v":0},{"$f":"E9+J9+O9","v":0},0,0]
[{"$nulls":18},0,0,0,0]
[{"$nulls":18},0,0,0,0]
[{"$nulls":18},0,0,0,0]
[{"$nulls":18},0,0,0,0]
[{"$nulls":18},0,0,0,0]
[{"$nulls":18},0,0,0,0]
[{"$nulls":18},0,0,0,0]
[{"$nulls":18},0,0,0,0]
[{"$nulls":18},0,0,0,0]
[{"$nulls":18},0,0,0,0]
[{"$nulls":18},0,0,0,0]
[{"$nulls":18},0,0,0,0]
[{"$nulls":18},0,0,0,0]
[{"$nulls":18},0,0,0,0]
[{"$nulls":18},0,0,0,0]
[{"$nulls":18},0,0,0,0]
[{"$nulls":18},0,0,0,0]
[{"$nulls":18},0,0,0,0]
[{"$nulls":18},0,0,0,0]
[{"$nulls":18},0,0,0,0]
[{"$nulls":18},0,0,0,0]
[{"$nulls":18},0,0,0,0]
[{"$nulls":18},0,0,0,0]
[{"$nulls":18},0,0,0,0]
[{"$nulls":18},0,0,0,0]
[{"$nulls":18},0,0,0,0]
[]
[null,"Summe",null,{"$f":"SUM(D8:D35)","v":0},{"$f":"SUM(E8:E35)","v":0},{"$f":"SUM(F8:F35)","v":0},{"$f":"SUM(G8:G35)","v":0},null,{"$f":"SUM(I8:I35)","v":0},{"$f":"SUM(J8:J35)","v":0},0,{"$f":"SUM(L8:L35)","v":0},null,{"$f":"SUM(N8:N35)","v":0},{"$f":"SUM(O8:O35)","v":0},{"$f":"SUM(P8:P35)","v":0},{"$f":"SUM(Q8:Q35)","v":0},null,{"$f":"D37+I37+N37","v":0},{"$f":"E37+J37+O37","v":0},0,0]
[null,"Einheitenpreis",{"$nulls":17},{"v":5,"d":"5.00 €"},{"v":0.2,"d":"0.20 €"},{"v":0.3,"d":"0.30 €"}]
[]
[null,"Auszahlung gesamt",{"$nulls":16},{"$f":"S37","v":0},0,{"$f":"U38*U37","v":{"v":0,"d":"0.00 €"}},{"$f":"V38*V37","v":{"v":0,"d":"0.00 €"}}]
["Tag: bitte den Kalendertag eintragen; für jeden Fahrtgrund bitte eine eigene Spalte benutzen"]
[]
["HVV: bitte Kosten in Euro der Einzelfahrten oder Tageskarte etc. eintragen"]
[]
["km: bitte die Kilometer eintragen (beim Fahrrad müssen mind. 2 Dienstfahrten angefallen sein, um die Pauschale von 5 Euro abzurechnen."]

{"sheet":"Februar","index":1,"n_rows":47,"n_cols":10,"rows_kept":47}
[{"$f":"Januar!A1","v":"Fahrkostennachweis  2025"},null,null,{"$f":"Januar!I1","v":"Standort"}]
["Februar"]
[]
["Tag","Fahrtziel / Grund",{"$f":"Januar!I4","v":"Querschnitt"},null,null,{"$f":"Januar!#REF!","v":{"$error":"#REF!"}},null,null,"       Gesamt"]
[null,null,"HVV   ","PKW km",null,"HVV ","PKW km",null,"HVV","PKW km"]
[]
[{"$nulls":8},{"$f":"C7+F7","v":0},{"$f":"D7+G7","v":0}]
[{"$nulls":8},0,0]
[{"$nulls":8},0,0]
[{"$nulls":8},0,0]
[{"$nulls":8},0,0]
[{"$nulls":8},0,0]
[{"$nulls":8},0,0]
[{"$nulls":8},0,0]
[{"$nulls":8},0,0]
[{"$nulls":8},0,0]
[{"$nulls":8},0,0]
[{"$nulls":8},0,0]
[{"$nulls":8},0,0]
[{"$nulls":8},0,0]
[{"$nulls":8},0,0]
[{"$nulls":8},0,0]
[{"$nulls":8},0,0]
[{"$nulls":8},0,0]
[{"$nulls":8},0,0]
[{"$nulls":8},0,0]
[{"$nulls":8},0,0]
[{"$nulls":8},0,0]
[{"$nulls":8},0,0]
[{"$nulls":8},0,0]
[{"$nulls":8},0,0]
[{"$nulls":8},0,0]
[{"$nulls":8},0,0]
[{"$nulls":8},0,0]
[null,"Summe",{"$f":"SUM(C7:C34)","v":0},{"$f":"SUM(D7:D34)","v":0},null,{"$f":"SUM(F7:F34)","v":0},{"$f":"SUM(G7:G34)","v":0},null,0,0]
[null,"Einheitenpreis",{"$nulls":6},{"$f":"Januar!$S$38","v":{"v":0,"d":"0.00 €"}},{"$f":"Januar!$T$38","v":{"v":5,"d":"5.00 €"}}]
[{"$nulls":8},{"$f":"I35*I36","v":{"v":0,"d":"0.00 €"}},{"$f":"J35*J36","v":{"v":0,"d":"0.00 €"}}]
[]
[]
[]
[]
["Tag: bitte den Kalendertag eintragen; für jeden Fahrtgrund bitte eine eigene Spalte benutzen"]
[]
["HVV: bitte Anzahl der Einzelfahrten eintragen; die Hin- und die Rückfahrt gelten jeweils als"]
["         eine Einzelfahrt"]
[]
["PKW km: bitte die Kilometer eintragen"]

{"sheet":"März","index":2,"n_rows":47,"n_cols":10,"rows_kept":47}
[{"$f":"Februar!A1","v":"Fahrkostennachweis  2025"},null,null,{"$f":"Januar!I1","v":"Standort"}]
["März"]
[]
["Tag","Fahrtziel / Grund",{"$f":"Januar!I4","v":"Querschnitt"},null,null,{"$f":"Januar!#REF!","v":{"$error":"#REF!"}},null,null,"       Gesamt"]
[null,null,"HVV   ","PKW km",null,"HVV ","PKW km",null,"HVV","PKW km"]
[]
[{"$nulls":8},{"$f":"C7+F7","v":0},{"$f":"D7+G7","v":0}]
[{"$nulls":8},0,0]
[{"$nulls":8},0,0]
[{"$nulls":8},0,0]
[{"$nulls":8},0,0]
[{"$nulls":8},0,0]
[{"$nulls":8},0,0]
[{"$nulls":8},0,0]
[{"$nulls":8},0,0]
[{"$nulls":8},0,0]
[{"$nulls":8},0,0]
[{"$nulls":8},0,0]
[{"$nulls":8},0,0]
[{"$nulls":8},0,0]
[{"$nulls":8},0,0]
[{"$nulls":8},0,0]
[{"$nulls":8},0,0]
[{"$nulls":8},0,0]
[{"$nulls":8},0,0]
[{"$nulls":8},0,0]
[{"$nulls":8},0,0]
[{"$nulls":8},0,0]
[{"$nulls":8},0,0]
[{"$nulls":8},0,0]
[{"$nulls":8},0,0]
[{"$nulls":8},0,0]
[{"$nulls":8},0,0]
[{"$nulls":8},0,0]
[null,"Summe",{"$f":"SUM(C7:C34)","v":0},{"$f":"SUM(D7:D34)","v":0},null,{"$f":"SUM(F7:F34)","v":0},{"$f":"SUM(G7:G34)","v":0},null,0,0]
[null,"Einheitenpreis",{"$nulls":6},{"$f":"Januar!$S$38","v":{"v":0,"d":"0.00 €"}},{"$f":"Januar!$T$38","v":{"v":5,"d":"5.00 €"}}]
[{"$nulls":8},{"$f":"I35*I36","v":{"v":0,"d":"0.00 €"}},{"$f":"J35*J36","v":{"v":0,"d":"0.00 €"}}]
[]
[]
[]
[]
["Tag: bitte den Kalendertag eintragen; für jeden Fahrtgrund bitte eine eigene Spalte benutzen"]
[]
["HVV: bitte Anzahl der Einzelfahrten eintragen; die Hin- und die Rückfahrt gelten jeweils als"]
["         eine Einzelfahrt"]
[]
["PKW km: bitte die Kilometer eintragen"]

{"sheet":"April","index":3,"n_rows":47,"n_cols":10,"rows_kept":47}
[{"$f":"März!A1","v":"Fahrkostennachweis  2025"},null,null,{"$f":"Januar!I1","v":"Standort"}]
["April"]
[]
["Tag","Fahrtziel / Grund",{"$f":"Januar!I4","v":"Querschnitt"},null,null,{"$f":"Januar!#REF!","v":{"$error":"#REF!"}},null,null,"       Gesamt"]
[null,null,"HVV   ","PKW km",null,"HVV ","PKW km",null,"HVV","PKW km"]
[]
[{"$nulls":8},{"$f":"C7+F7","v":0},{"$f":"D7+G7","v":0}]
[{"$nulls":8},0,0]
[{"$nulls":8},0,0]
[{"$nulls":8},0,0]
[{"$nulls":8},0,0]
[{"$nulls":8},0,0]
[{"$nulls":8},0,0]
[{"$nulls":8},0,0]
[{"$nulls":8},0,0]
[{"$nulls":8},0,0]
[{"$nulls":8},0,0]
[{"$nulls":8},0,0]
[{"$nulls":8},0,0]
[{"$nulls":8},0,0]
[{"$nulls":8},0,0]
[{"$nulls":8},0,0]
[{"$nulls":8},0,0]
[{"$nulls":8},0,0]
[{"$nulls":8},0,0]
[{"$nulls":8},0,0]
[{"$nulls":8},0,0]
[{"$nulls":8},0,0]
[{"$nulls":8},0,0]
[{"$nulls":8},0,0]
[{"$nulls":8},0,0]
[{"$nulls":8},0,0]
[{"$nulls":8},0,0]
[{"$nulls":8},0,0]
[null,"Summe",{"$f":"SUM(C7:C34)","v":0},{"$f":"SUM(D7:D34)","v":0},null,{"$f":"SUM(F7:F34)","v":0},{"$f":"SUM(G7:G34)","v":0},null,0,0]
[null,"Einheitenpreis",{"$nulls":6},{"$f":"Januar!$S$38","v":{"v":0,"d":"0.00 €"}},{"$f":"Januar!$T$38","v":{"v":5,"d":"5.00 €"}}]
[{"$nulls":8},{"$f":"I35*I36","v":{"v":0,"d":"0.00 €"}},{"$f":"J35*J36","v":{"v":0,"d":"0.00 €"}}]
[]
[]
[]
[]
["Tag: bitte den Kalendertag eintragen; für jeden Fahrtgrund bitte eine eigene Spalte benutzen"]
[]
["HVV: bitte Anzahl der Einzelfahrten eintragen; die Hin- und die Rückfahrt gelten jeweils als"]
["         eine Einzelfahrt"]
[]
["PKW km: bitte die Kilometer eintragen"]

{"sheet":"Mai","index":4,"n_rows":47,"n_cols":10,"rows_kept":47}
[{"$f":"April!A1","v":"Fahrkostennachweis  2025"},null,null,{"$f":"Januar!I1","v":"Standort"}]
["Mai"]
[]
["Tag","Fahrtziel / Grund",{"$f":"Januar!I4","v":"Querschnitt"},null,null,{"$f":"Januar!#REF!","v":{"$error":"#REF!"}},null,null,"       Gesamt"]
[null,null,"HVV   ","PKW km",null,"HVV ","PKW km",null,"HVV","PKW km"]
[]
[{"$nulls":8},{"$f":"C7+F7","v":0},{"$f":"D7+G7","v":0}]
[{"$nulls":8},0,0]
[{"$nulls":8},{"$f":"C9+F9","v":0},0]
[{"$nulls":8},0,0]
[{"$nulls":8},0,0]
[{"$nulls":8},0,0]
[{"$nulls":8},0,0]
[{"$nulls":8},0,0]
[{"$nulls":8},0,0]
[{"$nulls":8},0,0]
[{"$nulls":8},0,0]
[{"$nulls":8},0,0]
[{"$nulls":8},0,0]
[{"$nulls":8},0,0]
[{"$nulls":8},0,0]
[{"$nulls":8},0,0]
[{"$nulls":8},0,0]
[{"$nulls":8},0,0]
[{"$nulls":8},0,0]
[{"$nulls":8},0,0]
[{"$nulls":8},0,0]
[{"$nulls":8},0,0]
[{"$nulls":8},0,0]
[{"$nulls":8},0,0]
[{"$nulls":8},0,0]
[{"$nulls":8},0,0]
[{"$nulls":8},0,0]
[{"$nulls":8},0,0]
[null,"Summe",{"$f":"SUM(C7:C34)","v":0},{"$f":"SUM(D7:D34)","v":0},null,{"$f":"SUM(F7:F34)","v":0},{"$f":"SUM(G7:G34)","v":0},null,0,0]
[null,"Einheitenpreis",{"$nulls":6},{"$f":"Januar!$S$38","v":{"v":0,"d":"0.00 €"}},{"$f":"Januar!$T$38","v":{"v":5,"d":"5.00 €"}}]
[{"$nulls":8},{"$f":"I35*I36","v":{"v":0,"d":"0.00 €"}},{"$f":"J35*J36","v":{"v":0,"d":"0.00 €"}}]
[]
[]
[]
[]
["Tag: bitte den Kalendertag eintragen; für jeden Fahrtgrund bitte eine eigene Spalte benutzen"]
[]
["HVV: bitte Anzahl der Einzelfahrten eintragen; die Hin- und die Rückfahrt gelten jeweils als"]
["         eine Einzelfahrt"]
[]
["PKW km: bitte die Kilometer eintragen"]

{"sheet":"Juni","index":5,"n_rows":47,"n_cols":10,"rows_kept":47}
[{"$f":"Mai!A1","v":"Fahrkostennachweis  2025"},null,null,{"$f":"Januar!I1","v":"Standort"}]
["Juni"]
[]
["Tag","Fahrtziel / Grund",{"$f":"Januar!I4","v":"Querschnitt"},null,null,{"$f":"Januar!#REF!","v":{"$error":"#REF!"}},null,null,"       Gesamt"]
[null,null,"HVV   ","PKW km",null,"HVV ","PKW km",null,"HVV","PKW km"]
[]
[{"$nulls":8},{"$f":"C7+F7","v":0},{"$f":"D7+G7","v":0}]
[{"$nulls":8},0,0]
[{"$nulls":8},0,0]
[{"$nulls":8},0,0]
[{"$nulls":8},0,0]
[{"$nulls":8},0,0]
[{"$nulls":8},0,0]
[{"$nulls":8},0,0]
[{"$nulls":8},0,0]
[{"$nulls":8},0,0]
[{"$nulls":8},0,0]
[{"$nulls":8},0,0]
[{"$nulls":8},0,0]
[{"$nulls":8},0,0]
[{"$nulls":8},0,0]
[{"$nulls":8},0,0]
[{"$nulls":8},0,0]
[{"$nulls":8},0,0]
[{"$nulls":8},0,0]
[{"$nulls":8},0,0]
[{"$nulls":8},{"$f":"C27+F27","v":0},0]
[{"$nulls":8},0,0]
[{"$nulls":8},0,0]
[{"$nulls":8},0,0]
[{"$nulls":8},0,0]
[{"$nulls":8},0,0]
[{"$nulls":8},0,0]
[{"$nulls":8},0,0]
[null,"Summe",{"$f":"SUM(C7:C34)","v":0},{"$f":"SUM(D7:D34)","v":0},null,{"$f":"SUM(F7:F34)","v":0},{"$f":"SUM(G7:G34)","v":0},null,0,0]
[null,"Einheitenpreis",{"$nulls":6},{"$f":"Januar!$S$38","v":{"v":0,"d":"0.00 €"}},{"$f":"Januar!$T$38","v":{"v":5,"d":"5.00 €"}}]
[{"$nulls":8},{"$f":"I35*I36","v":{"v":0,"d":"0.00 €"}},{"$f":"J35*J36","v":{"v":0,"d":"0.00 €"}}]
[]
[]
[]
[]
["Tag: bitte den Kalendertag eintragen; für jeden Fahrtgrund bitte eine eigene Spalte benutzen"]
[]
["HVV: bitte Anzahl der Einzelfahrten eintragen; die Hin- und die Rückfahrt gelten jeweils als"]
["         eine Einzelfahrt"]
[]
["PKW km: bitte die Kilometer eintragen"]

{"sheet":"Juli","index":6,"n_rows":47,"n_cols":10,"rows_kept":47}
[{"$f":"Juni!A1","v":"Fahrkostennachweis  2025"},null,null,{"$f":"Januar!I1","v":"Standort"}]
["Juli"]
[]
["Tag","Fahrtziel / Grund",{"$f":"Januar!I4","v":"Querschnitt"},null,null,{"$f":"Januar!#REF!","v":{"$error":"#REF!"}},null,null,"       Gesamt"]
[null,null,"HVV   ","PKW km",null,"HVV ","PKW km",null,"HVV","PKW km"]
[]
[{"$nulls":8},{"$f":"C7+F7","v":0},{"$f":"D7+G7","v":0}]
[{"$nulls":8},0,0]
[{"$nulls":8},0,0]
[{"$nulls":8},0,0]
[{"$nulls":8},0,0]
[{"$nulls":8},0,0]
[{"$nulls":8},0,0]
[{"$nulls":8},0,0]
[{"$nulls":8},0,0]
[{"$nulls":8},0,0]
[{"$nulls":8},0,0]
[{"$nulls":8},0,0]
[{"$nulls":8},0,0]
[{"$nulls":8},0,0]
[{"$nulls":8},0,{"$f":"D21+G21","v":0}]
[{"$nulls":8},0,0]
[{"$nulls":8},0,0]
[{"$nulls":8},0,0]
[{"$nulls":8},0,0]
[{"$nulls":8},0,0]
[{"$nulls":8},0,0]
[{"$nulls":8},0,0]
[{"$nulls":8},0,0]
[{"$nulls":8},0,0]
[{"$nulls":8},0,0]
[{"$nulls":8},{"$f":"C32+F32","v":0},0]
[{"$nulls":8},{"$f":"C33+F33","v":0},0]
[{"$nulls":8},{"$f":"C34+F34","v":0},0]
[null,"Summe",{"$f":"SUM(C7:C34)","v":0},{"$f":"SUM(D7:D34)","v":0},null,{"$f":"SUM(F7:F34)","v":0},{"$f":"SUM(G7:G34)","v":0},null,{"$f":"C35+F35","v":0},0]
[null,"Einheitenpreis",{"$nulls":6},{"$f":"Januar!$S$38","v":{"v":0,"d":"0.00 €"}},{"$f":"Januar!$T$38","v":{"v":5,"d":"5.00 €"}}]
[{"$nulls":8},{"$f":"I35*I36","v":{"v":0,"d":"0.00 €"}},{"$f":"J35*J36","v":{"v":0,"d":"0.00 €"}}]
[]
[]
[]
[]
["Tag: bitte den Kalendertag eintragen; für jeden Fahrtgrund bitte eine eigene Spalte benutzen"]
[]
["HVV: bitte Anzahl der Einzelfahrten eintragen; die Hin- und die Rückfahrt gelten jeweils als"]
["         eine Einzelfahrt"]
[]
["PKW km: bitte die Kilometer eintragen"]

{"sheet":"August","index":7,"n_rows":47,"n_cols":10,"rows_kept":47}
[{"$f":"Juli!A1","v":"Fahrkostennachweis  2025"},null,null,{"$f":"Januar!I1","v":"Standort"}]
["August"]
[]
["Tag","Fahrtziel / Grund",{"$f":"Januar!I4","v":"Querschnitt"},null,null,{"$f":"Januar!#REF!","v":{"$error":"#REF!"}},null,null,"       Gesamt"]
[null,null,"HVV   ","PKW km",null,"HVV ","PKW km",null,"HVV","PKW km"]
[]
[{"$nulls":8},{"$f":"C7+F7","v":0},{"$f":"D7+G7","v":0}]
[{"$nulls":8},0,0]
[{"$nulls":8},0,0]
[{"$nulls":8},0,0]
[{"$nulls":8},0,0]
[{"$nulls":8},0,0]
[{"$nulls":8},0,0]
[{"$nulls":8},0,0]
[{"$nulls":8},0,0]
[{"$nulls":8},0,0]
[{"$nulls":8},0,0]
[{"$nulls":8},0,0]
[{"$nulls":8},0,0]
[{"$nulls":8},0,0]
[{"$nulls":8},0,{"$f":"D21+G21","v":0}]
[{"$nulls":8},0,0]
[{"$nulls":8},0,0]
[{"$nulls":8},0,0]
[{"$nulls":8},0,0]
[{"$nulls":8},0,0]
[{"$nulls":8},0,0]
[{"$nulls":8},{"$f":"C28+F28","v":0},0]
[{"$nulls":8},{"$f":"C29+F29","v":0},0]
[{"$nulls":8},0,0]
[{"$nulls":8},0,0]
[{"$nulls":8},0,0]
[{"$nulls":8},0,0]
[{"$nulls":8},0,0]
[null,"Summe",{"$f":"SUM(C7:C34)","v":0},{"$f":"SUM(D7:D34)","v":0},null,{"$f":"SUM(F7:F34)","v":0},{"$f":"SUM(G7:G34)","v":0},null,0,0]
[null,"Einheitenpreis",{"$nulls":6},{"$f":"Januar!$S$38","v":{"v":0,"d":"0.00 €"}},{"$f":"Januar!$T$38","v":{"v":5,"d":"5.00 €"}}]
[{"$nulls":8},{"$f":"I35*I36","v":{"v":0,"d":"0.00 €"}},{"$f":"J35*J36","v":{"v":0,"d":"0.00 €"}}]
[]
[]
[]
[]
["Tag: bitte den Kalendertag eintragen; für jeden Fahrtgrund bitte eine eigene Spalte benutzen"]
[]
["HVV: bitte Anzahl der Einzelfahrten eintragen; die Hin- und die Rückfahrt gelten jeweils als"]
["         eine Einzelfahrt"]
[]
["PKW km: bitte die Kilometer eintragen"]

{"sheet":"September","index":8,"n_rows":47,"n_cols":10,"rows_kept":47}
[{"$f":"August!A1","v":"Fahrkostennachweis  2025"},null,null,{"$f":"Januar!I1","v":"Standort"}]
["September"]
[]
["Tag","Fahrtziel / Grund",{"$f":"Januar!I4","v":"Querschnitt"},null,null,{"$f":"Januar!#REF!","v":{"$error":"#REF!"}},null,null,"       Gesamt"]
[null,null,"HVV   ","PKW km",null,"HVV ","PKW km",null,"HVV","PKW km"]
[]
[{"$nulls":8},{"$f":"C7+F7","v":0},{"$f":"D7+G7","v":0}]
[{"$nulls":8},0,0]
[{"$nulls":8},0,0]
[{"$nulls":8},0,0]
[{"$nulls":8},0,0]
[{"$nulls":8},0,0]
[{"$nulls":8},0,0]
[{"$nulls":8},0,0]
[{"$nulls":8},0,0]
[{"$nulls":8},0,0]
[{"$nulls":8},0,0]
[{"$nulls":8},0,0]
[{"$nulls":8},0,0]
[{"$nulls":8},0,0]
[{"$nulls":8},0,{"$f":"D21+G21","v":0}]
[{"$nulls":8},0,0]
[{"$nulls":8},0,0]
[{"$nulls":8},0,0]
[{"$nulls":8},0,0]
[{"$nulls":8},0,0]
[{"$nulls":8},0,0]
[{"$nulls":8},0,0]
[{"$nulls":8},0,0]
[{"$nulls":8},{"$f":"C30+F30","v":0},0]
[{"$nulls":8},0,0]
[{"$nulls":8},0,0]
[{"$nulls":8},0,0]
[{"$nulls":8},0,0]
[null,"Summe",{"$f":"SUM(C7:C34)","v":0},{"$f":"SUM(D7:D34)","v":0},null,{"$f":"SUM(F7:F34)","v":0},{"$f":"SUM(G7:G34)","v":0},null,0,0]
[null,"Einheitenpreis",{"$nulls":6},{"$f":"Januar!$S$38","v":{"v":0,"d":"0.00 €"}},{"$f":"Januar!$T$38","v":{"v":5,"d":"5.00 €"}}]
[{"$nulls":8},{"$f":"I35*I36","v":{"v":0,"d":"0.00 €"}},{"$f":"J35*J36","v":{"v":0,"d":"0.00 €"}}]
[]
[]
[]
[]
["Tag: bitte den Kalendertag eintragen; für jeden Fahrtgrund bitte eine eigene Spalte benutzen"]
[]
["HVV: bitte Anzahl der Einzelfahrten eintragen; die Hin- und die Rückfahrt gelten jeweils als"]
["         eine Einzelfahrt"]
[]
["PKW km: bitte die Kilometer eintragen"]

{"sheet":"Oktober","index":9,"n_rows":47,"n_cols":10,"rows_kept":47}
[{"$f":"September!A1","v":"Fahrkostennachweis  2025"},null,null,{"$f":"Januar!I1","v":"Standort"}]
["Oktober"]
[]
["Tag","Fahrtziel / Grund",{"$f":"Januar!I4","v":"Querschnitt"},null,null,{"$f":"Januar!#REF!","v":{"$error":"#REF!"}},null,null,"       Gesamt"]
[null,null,"HVV   ","PKW km",null,"HVV ","PKW km",null,"HVV","PKW km"]
[{"$nulls":8},{"$f":"C6+F6","v":0},{"$f":"D6+G6","v":0}]
[{"$nulls":8},0,0]
[{"$nulls":8},0,0]
[{"$nulls":8},0,0]
[{"$nulls":8},0,0]
[{"$nulls":8},0,0]
[{"$nulls":8},0,0]
[{"$nulls":8},0,0]
[{"$nulls":8},0,0]
[{"$nulls":8},0,0]
[{"$nulls":8},0,0]
[{"$nulls":8},0,0]
[{"$nulls":8},0,0]
[{"$nulls":8},0,0]
[{"$nulls":8},0,{"$f":"D20+G20","v":0}]
[{"$nulls":8},0,{"$f":"D21+G21","v":0}]
[{"$nulls":8},0,0]
[{"$nulls":8},0,0]
[{"$nulls":8},0,0]
[{"$nulls":8},0,0]
[{"$nulls":8},0,0]
[{"$nulls":8},0,0]
[{"$nulls":8},0,0]
[{"$nulls":8},0,0]
[{"$nulls":8},0,0]
[{"$nulls":8},0,0]
[{"$nulls":8},{"$f":"C32+F32","v":0},0]
[{"$nulls":8},{"$f":"C33+F33","v":0},0]
[{"$nulls":8},{"$f":"C34+F34","v":0},0]
[null,"Summe",{"$f":"SUM(C6:C34)","v":0},{"$f":"SUM(D7:D34)","v":0},null,{"$f":"SUM(F7:F34)","v":0},{"$f":"SUM(G7:G34)","v":0},null,{"$f":"C35+F35","v":0},0]
[null,"Einheitenpreis",{"$nulls":6},{"$f":"Januar!$S$38","v":{"v":0,"d":"0.00 €"}},{"$f":"Januar!$T$38","v":{"v":5,"d":"5.00 €"}}]
[{"$nulls":8},{"$f":"I35*I36","v":{"v":0,"d":"0.00 €"}},{"$f":"J35*J36","v":{"v":0,"d":"0.00 €"}}]
[]
[]
[]
[]
["Tag: bitte den Kalendertag eintragen; für jeden Fahrtgrund bitte eine eigene Spalte benutzen"]
[]
["HVV: bitte Anzahl der Einzelfahrten eintragen; die Hin- und die Rückfahrt gelten jeweils als"]
["         eine Einzelfahrt"]
[]
["PKW km: bitte die Kilometer eintragen"]

{"sheet":"November","index":10,"n_rows":47,"n_cols":10,"rows_kept":47}
[{"$f":"Oktober!A1","v":"Fahrkostennachweis  2025"},null,null,{"$f":"Januar!I1","v":"Standort"}]
["November"]
[]
["Tag","Fahrtziel / Grund",{"$f":"Januar!I4","v":"Querschnitt"},null,null,{"$f":"Januar!#REF!","v":{"$error":"#REF!"}},null,null,"       Gesamt"]
[null,null,"HVV   ","PKW km",null,"HVV ","PKW km",null,"HVV","PKW km"]
[{"$nulls":8},{"$f":"C6+F6","v":0},{"$f":"D6+G6","v":0}]
[{"$nulls":8},0,0]
[{"$nulls":8},0,0]
[{"$nulls":8},0,0]
[{"$nulls":8},0,0]
[{"$nulls":8},0,0]
[{"$nulls":8},0,0]
[{"$nulls":8},0,0]
[{"$nulls":8},0,0]
[{"$nulls":8},0,0]
[{"$nulls":8},{"$f":"C16+F16","v":0},0]
[{"$nulls":8},0,0]
[{"$nulls":8},0,0]
[{"$nulls":8},0,0]
[{"$nulls":8},0,{"$f":"D20+G20","v":0}]
[{"$nulls":8},0,0]
[{"$nulls":8},0,0]
[{"$nulls":8},0,0]
[{"$nulls":8},0,0]
[{"$nulls":8},0,0]
[{"$nulls":8},0,0]
[{"$nulls":8},0,0]
[{"$nulls":8},0,0]
[{"$nulls":8},0,0]
[{"$nulls":8},{"$f":"C30+F30","v":0},0]
[{"$nulls":8},0,0]
[{"$nulls":8},0,0]
[{"$nulls":8},0,0]
[{"$nulls":8},0,0]
[null,"Summe",{"$f":"SUM(C6:C34)","v":0},{"$f":"SUM(D7:D34)","v":0},null,{"$f":"SUM(F6:F34)","v":0},{"$f":"SUM(G7:G34)","v":0},null,0,0]
[null,"Einheitenpreis",{"$nulls":6},{"$f":"Januar!$S$38","v":{"v":0,"d":"0.00 €"}},{"$f":"Januar!$T$38","v":{"v":5,"d":"5.00 €"}}]
[{"$nulls":8},{"$f":"I35*I36","v":{"v":0,"d":"0.00 €"}},{"$f":"J35*J36","v":{"v":0,"d":"0.00 €"}}]
[]
[]
[]
[]
["Tag: bitte den Kalendertag eintragen; für jeden Fahrtgrund bitte eine eigene Spalte benutzen"]
[]
["HVV: bitte Anzahl der Einzelfahrten eintragen; die Hin- und die Rückfahrt gelten jeweils als"]
["         eine Einzelfahrt"]
[]
["PKW km: bitte die Kilometer eintragen"]

{"sheet":"Dezember","index":11,"n_rows":47,"n_cols":10,"rows_kept":47}
[{"$f":"November!A1","v":"Fahrkostennachweis  2025"},null,null,{"$f":"Januar!I1","v":"Standort"}]
["Dezember"]
[]
["Tag","Fahrtziel / Grund",{"$f":"Januar!I4","v":"Querschnitt"},null,null,{"$f":"Januar!#REF!","v":{"$error":"#REF!"}},null,null,"       Gesamt"]
[null,null,"HVV   ","PKW km",null,"HVV ","PKW km",null,"HVV","PKW km"]
[]
[{"$nulls":8},{"$f":"C7+F7","v":0},{"$f":"D7+G7","v":0}]
[{"$nulls":8},0,0]
[{"$nulls":8},0,0]
[{"$nulls":8},0,0]
[{"$nulls":8},0,0]
[{"$nulls":8},0,0]
[{"$nulls":8},0,0]
[{"$nulls":8},0,0]
[{"$nulls":8},0,0]
[{"$nulls":8},0,0]
[{"$nulls":8},0,0]
[{"$nulls":8},0,0]
[{"$nulls":8},0,0]
[{"$nulls":8},0,0]
[{"$nulls":8},0,0]
[{"$nulls":8},0,0]
[{"$nulls":8},0,0]
[{"$nulls":8},0,0]
[{"$nulls":8},0,0]
[{"$nulls":8},0,0]
[{"$nulls":8},0,0]
[{"$nulls":8},0,0]
[{"$nulls":8},0,0]
[{"$nulls":8},{"$f":"C30+F30","v":0},0]
[{"$nulls":8},0,0]
[{"$nulls":8},0,0]
[{"$nulls":8},0,0]
[{"$nulls":8},0,0]
[null,"Summe",{"$f":"SUM(C7:C34)","v":0},{"$f":"SUM(D7:D34)","v":0},null,{"$f":"SUM(F7:F34)","v":0},{"$f":"SUM(G7:G34)","v":0},null,0,0]
[null,"Einheitenpreis",{"$nulls":6},{"$f":"Januar!$S$38","v":{"v":0,"d":"0.00 €"}},{"$f":"Januar!$T$38","v":{"v":5,"d":"5.00 €"}}]
[{"$nulls":8},{"$f":"I35*I36","v":{"v":0,"d":"0.00 €"}},{"$f":"J35*J36","v":{"v":0,"d":"0.00 €"}}]
[]
[]
[]
[]
["Tag: bitte den Kalendertag eintragen; für jeden Fahrtgrund bitte eine eigene Spalte benutzen"]
[]
["HVV: bitte Anzahl der Einzelfahrten eintragen; die Hin- und die Rückfahrt gelten jeweils als"]
["         eine Einzelfahrt"]
[]
["PKW km: bitte die Kilometer eintragen"]

{"sheet":"Gesamt","index":12,"n_rows":27,"n_cols":10,"rows_kept":27}
[{"$f":"Dezember!A1","v":"Fahrkostennachweis  2025"},null,null,{"$f":"Januar!I1","v":"Standort"}]
["Gesamt"]
[]
["Tag","Fahrtziel / Grund",{"$f":"Januar!I4","v":"Querschnitt"},null,null,{"$f":"Januar!#REF!","v":{"$error":"#REF!"}},null,null,"       Gesamt"]
[null,null,"HVV   ","PKW km",null,"HVV ","PKW km",null,"HVV","PKW km"]
[]
[{"$nulls":8},{"$f":"C7+F7","v":0},0]
[{"$nulls":8},0,{"$f":"D8+G8","v":0}]
[{"$nulls":8},0,0]
[{"$nulls":8},0,0]
[null,"Summe Gesamt",{"$f":"Januar!I37+Februar!C35+März!C35+April!C35+Mai!C35+Juni!C35+Juli!C35+August!C35+September!C35+Oktober!C35+November!C35+Dezember!C35","v":0},{"$f":"Januar!L37+Februar!D35+März!D35+April!D35+Mai!D35+Juni!D35+Juli!D35+August!D35+September!D35+Oktober!D35+November!D35+Dezember!D35","v":0},null,{"$f":"Januar!#REF!+Februar!F35+März!F35+April!F35+Mai!F35+Juni!F35+Juli!F35+August!F35+September!F35+Oktober!F35+November!F35+Dezember!F35","v":{"$error":"#REF!"}},{"$f":"Januar!#REF!+Februar!G35+März!G35+April!G35+Mai!G35+Juni!G35+Juli!G35+August!G35+September!G35+Oktober!G35+November!G35+Dezember!G35","v":{"$error":"#REF!"}},null,{"$f":"Januar!S37+Februar!I35+März!I35+April!I35+Mai!I35+Juni!I35+Juli!I35+August!I35+September!I35+Oktober!I35+November!I35+Dezember!I35","v":0},{"$f":"Januar!T37+Februar!J35+März!J35+April!J35+Mai!J35+Juni!J35+Juli!J35+August!J35+September!J35+Oktober!J35+November!J35+Dezember!J35","v":0}]
[null,"Einheitenpreis",{"$f":"Dezember!I36","v":{"v":0,"d":"0.00 €"}},{"$f":"Dezember!J36","v":{"v":5,"d":"5.00 €"}},null,{"$f":"Dezember!I36","v":{"v":0,"d":"0.00 €"}},{"$f":"Dezember!J36","v":{"v":5,"d":"5.00 €"}},null,{"$f":"Dezember!I36","v":{"v":0,"d":"0.00 €"}},{"$f":"Dezember!J36","v":{"v":5,"d":"5.00 €"}}]
[null,"Kosten Gesamt",{"$f":"C11*C12","v":{"v":0,"d":"0.00 €"}},{"$f":"D11*D12","v":{"v":0,"d":"0.00 €"}},null,{"$f":"F11*F12","v":{"$error":"#REF!"}},{"$f":"G11*G12","v":{"$error":"#REF!"}},null,{"$f":"I11*I12","v":{"v":0,"d":"0.00 €"}},{"$f":"J11*J12","v":{"v":0,"d":"0.00 €"}}]
[]
[null,"erstattete Kosten laufend",{"$f":"0","v":{"v":0,"d":"0.00 €"}},null,null,{"$f":"12*65.45*39/39","v":{"v":785.4000000000001,"d":"785.40 €"}},null,null,{"$f":"C15+F15","v":{"v":785.4000000000001,"d":"785.40 €"}}]
[null,"erstattete Kosten einmalig",{"$nulls":7},{"$f":"D16+G16","v":{"v":0,"d":"0.00 €"}}]
[null,"erstattete Kosten einmalig",{"$nulls":7},{"$f":"D17+G17","v":{"v":0,"d":"0.00 €"}}]
[null,"erstattete Kosten einmalig",{"$nulls":7},{"v":0,"d":"0.00 €"}]
[null,"erstattete Kosten einmalig",{"$nulls":7},{"v":0,"d":"0.00 €"}]
[null,"erstattete Kosten einmalig",{"$nulls":7},{"v":0,"d":"0.00 €"}]
[null,"erstattete Kosten einmalig",{"$nulls":7},{"v":0,"d":"0.00 €"}]
[null,"erstattete Kosten einmalig",{"$nulls":7},{"v":0,"d":"0.00 €"}]
[null,"erstattete Kosten einmalig",{"$nulls":7},{"v":0,"d":"0.00 €"}]
[]
[null,"erstattete Kosten",{"$f":"SUM(C15:C23)","v":{"v":0,"d":"0.00 €"}},{"$f":"SUM(D15:D23)","v":{"v":0,"d":"0.00 €"}},null,{"$f":"SUM(F15:F23)","v":{"v":785.4000000000001,"d":"785.40 €"}},{"$f":"SUM(G15:G23)","v":{"v":0,"d":"0.00 €"}},null,{"$f":"SUM(I15:I23)","v":{"v":785.4000000000001,"d":"785.40 €"}},{"$f":"SUM(J15:J23)","v":{"v":0,"d":"0.00 €"}}]
[]
[null,"Differenz",{"$f":"C25+D25-C13-D13","v":{"v":0,"d":"0.00 €"}},null,null,{"$f":"F25+G25-F13-G13","v":{"$error":"#REF!"}},null,null,{"$f":"I25+J25-I13-J13","v":{"v":785.4000000000001,"d":"785.40 €"}}]